BEGIN:VCALENDAR
VERSION:2.0
PRODID:-//hfhkp.org//NONSGML kigkonsult.se iCalcreator 2.30.10//
CALSCALE:GREGORIAN
METHOD:PUBLISH
UID:677168e0-c84c-4dab-80c7-10513a4e7a30
X-WR-CALDESC:What are your rights and responsibilities as a homeowner? Is t
 he state of WV going to decide what happens to your property at your death
 ? This class will teach you how to make the best insurance decisions and w
 hy estate planning is important. Home-buyers learn about the legal documen
 ts they will sign when they purchase a home.\n\nJoin attorney David Hammon
 d as he provides a great overview in understandable language to empower yo
 u as a homeowner.\n\nThe cost is $15\, but scholarships are available. Cal
 l 304.720.0141 ex.18 for more information.
X-WR-RELCALID:a9a767f2d3b4b16ea8346a4e62b1cfed
X-WR-TIMEZONE:America/New_York
BEGIN:VTIMEZONE
TZID:America/New_York
BEGIN:STANDARD
TZNAME:EST
DTSTART:20241103T020000
TZOFFSETFROM:-0400
TZOFFSETTO:-0500
RDATE:20251102T020000
END:STANDARD
BEGIN:DAYLIGHT
TZNAME:EDT
DTSTART:20250309T020000
TZOFFSETFROM:-0500
TZOFFSETTO:-0400
RDATE:20260308T020000
END:DAYLIGHT
END:VTIMEZONE
BEGIN:VEVENT
UID:063dbe12-35e2-4024-9388-1e93be35c0ee
DTSTAMP:20260421T200523Z
DESCRIPTION:What are your rights and responsibilities as a homeowner? Is th
 e state of WV going to decide what happens to your property at your death?
  This class will teach you how to make the best insurance decisions and wh
 y estate planning is important. Home-buyers learn about the legal document
 s they will sign when they purchase a home.\n\nJoin attorney David Hammond
  as he provides a great overview in understandable language to empower you
  as a homeowner.\n\nThe cost is $15\, but scholarships are available. Call
  304.720.0141 ex.18 for more information.
DTSTART;TZID=America/New_York:20250414T173000
DTEND;TZID=America/New_York:20250414T200000
LOCATION:815 Court Street\, Charleston\, WV
SUMMARY:Legal & Insurance Issues of Homeownership - MHP
END:VEVENT
END:VCALENDAR
