BEGIN:VCALENDAR
VERSION:2.0
PRODID:-//hfhkp.org//NONSGML kigkonsult.se iCalcreator 2.30.10//
CALSCALE:GREGORIAN
METHOD:PUBLISH
UID:251fab09-ad7a-4b2d-82c2-5b5170ca1802
X-WR-CALDESC:Lesson 1 - Budgeting\nJune 05\n\nLesson 2 - Baby Steps\nJune 1
 2\n\nLesson 3 Baby Steps to Crawling\nJune 19\n\nLesson 4 - Walk on Your O
 wn\nJune 26\n\nLesson 5 - Wise Spending\nJuly 03\n\nLesson 6 - Understandi
 ng Insurance\nJuly 10\n\nLesson 7  - Building Wealth\nJuly 17\n\nLesson 8 
 - Buying and Selling Your Home\nJuly 24\n\nLesson 9 - Outrageous Generosit
 y\nJuly 31
X-WR-RELCALID:e7050d14c85d46be0bf60e624772be35
X-WR-TIMEZONE:America/New_York
BEGIN:VTIMEZONE
TZID:America/New_York
BEGIN:STANDARD
TZNAME:EST
DTSTART:20221106T020000
TZOFFSETFROM:-0400
TZOFFSETTO:-0500
RDATE:20231105T020000
RDATE:20241103T020000
END:STANDARD
BEGIN:DAYLIGHT
TZNAME:EDT
DTSTART:20230312T020000
TZOFFSETFROM:-0500
TZOFFSETTO:-0400
RDATE:20240310T020000
END:DAYLIGHT
END:VTIMEZONE
BEGIN:VEVENT
UID:4abe05c3-e932-42fa-b0ea-00b39802fe79
DTSTAMP:20260422T084240Z
DESCRIPTION:Lesson 1 - Budgeting\nJune 05\n\nLesson 2 - Baby Steps\nJune 12
 \n\nLesson 3 Baby Steps to Crawling\nJune 19\n\nLesson 4 - Walk on Your Ow
 n\nJune 26\n\nLesson 5 - Wise Spending\nJuly 03\n\nLesson 6 - Understandin
 g Insurance\nJuly 10\n\nLesson 7  - Building Wealth\nJuly 17\n\nLesson 8 -
  Buying and Selling Your Home\nJuly 24\n\nLesson 9 - Outrageous Generosity
 \nJuly 31
DTSTART;TZID=America/New_York:20230626T173000
DTEND;TZID=America/New_York:20230626T193000
LOCATION:John L. DIckinson Homeowner Education Center\, 815 Court Street\, 
 Charleston\, WV\, WV 25301 US
SUMMARY:Financial Peace University
END:VEVENT
END:VCALENDAR
