BEGIN:VCALENDAR
VERSION:2.0
PRODID:-//hfhkp.org//NONSGML kigkonsult.se iCalcreator 2.30.10//
CALSCALE:GREGORIAN
METHOD:PUBLISH
UID:4dba1a84-6409-4299-9739-34d61e9faef4
X-WR-CALDESC:
X-WR-RELCALID:209da696cf8ca3dd971085ef911d4e49
X-WR-TIMEZONE:America/New_York
BEGIN:VTIMEZONE
TZID:America/New_York
BEGIN:STANDARD
TZNAME:EST
DTSTART:20221106T020000
TZOFFSETFROM:-0400
TZOFFSETTO:-0500
RDATE:20231105T020000
END:STANDARD
BEGIN:DAYLIGHT
TZNAME:EDT
DTSTART:20220313T020000
TZOFFSETFROM:-0500
TZOFFSETTO:-0400
RDATE:20230312T020000
RDATE:20240310T020000
END:DAYLIGHT
END:VTIMEZONE
BEGIN:VEVENT
UID:a8f011f2-b918-4551-9b52-a1e7a4429452
DTSTAMP:20260419T150124Z
DESCRIPTION:
DTSTART;TZID=America/New_York:20221122T093000
DTEND;TZID=America/New_York:20221122T113000
LOCATION:815 Court Street\, John L. Dickenson Community Center\, Charleston
 \, WV 25301 US
SUMMARY:Charleston Art Group
END:VEVENT
END:VCALENDAR
