BEGIN:VCALENDAR
VERSION:2.0
PRODID:-//hfhkp.org//NONSGML kigkonsult.se iCalcreator 2.30.10//
CALSCALE:GREGORIAN
METHOD:PUBLISH
UID:6a12ec14-ce69-4d1e-a560-ea3245470042
X-WR-CALDESC:
X-WR-RELCALID:788628effa67b71880bfd2ae60996442
X-WR-TIMEZONE:America/New_York
BEGIN:VTIMEZONE
TZID:America/New_York
BEGIN:STANDARD
TZNAME:EST
DTSTART:20211107T020000
TZOFFSETFROM:-0400
TZOFFSETTO:-0500
RDATE:20221106T020000
END:STANDARD
BEGIN:DAYLIGHT
TZNAME:EDT
DTSTART:20210314T020000
TZOFFSETFROM:-0500
TZOFFSETTO:-0400
RDATE:20220313T020000
RDATE:20230312T020000
END:DAYLIGHT
END:VTIMEZONE
BEGIN:VEVENT
UID:02747a5f-7bdb-4e70-a96c-b3343c3b8dc5
DTSTAMP:20260422T114631Z
DESCRIPTION:
DTSTART;TZID=America/New_York:20211227T000000
DTEND;TZID=America/New_York:20211227T235900
LOCATION:
SUMMARY:Office Closed - Christmas Observance
END:VEVENT
END:VCALENDAR
