BEGIN:VCALENDAR
VERSION:2.0
PRODID:-//hfhkp.org//NONSGML kigkonsult.se iCalcreator 2.30.10//
CALSCALE:GREGORIAN
METHOD:PUBLISH
UID:748a8fe6-17c7-4034-94c4-07561448214a
X-WR-CALDESC:This class will teach you what basic tools are needed for comm
 on tasks in and around the house and how to use those tools properly.\nYou
  will learn hands-on what every homeowner should know about buying\, using
 \, and storing tools. \nThis is a hands-on class.\n\nThe cost is $10\, and
  you must purchase your ticket in advance. \nSeating is limited. Call 304.
 720.0141 ext. 18 for more information or financial aid.\n\nThis class is o
 ffered as part of Habitat for Humanity's Master Homeowner Program and is o
 pen to the public.
X-WR-RELCALID:c6fea8c7eebae79b4651ec5e328662ea
X-WR-TIMEZONE:America/New_York
BEGIN:VTIMEZONE
TZID:America/New_York
BEGIN:STANDARD
TZNAME:EST
DTSTART:20201101T020000
TZOFFSETFROM:-0400
TZOFFSETTO:-0500
RDATE:20211107T020000
RDATE:20221106T020000
END:STANDARD
BEGIN:DAYLIGHT
TZNAME:EDT
DTSTART:20210314T020000
TZOFFSETFROM:-0500
TZOFFSETTO:-0400
RDATE:20220313T020000
RDATE:20230312T020000
END:DAYLIGHT
END:VTIMEZONE
BEGIN:VEVENT
UID:903024c3-baaf-40b5-af8a-20505c16ac68
DTSTAMP:20260422T221430Z
DESCRIPTION:This class will teach you what basic tools are needed for commo
 n tasks in and around the house and how to use those tools properly.\nYou 
 will learn hands-on what every homeowner should know about buying\, using\
 , and storing tools. \nThis is a hands-on class.\n\nThe cost is $10\, and 
 you must purchase your ticket in advance. \nSeating is limited. Call 304.7
 20.0141 ext. 18 for more information or financial aid.\n\nThis class is of
 fered as part of Habitat for Humanity's Master Homeowner Program and is op
 en to the public.
DTSTART;TZID=America/New_York:20210913T173000
DTEND;TZID=America/New_York:20210913T200000
LOCATION:815A Court Street\, John L. Dickinson Homeowner Education and Comm
 unity Center\, Charleston\, WV 25301 US
SUMMARY:Homeowner's Toolbox - Learn to Use Tools
END:VEVENT
END:VCALENDAR
